BEGIN:VCALENDAR
VERSION:2.0
PRODID:-//Wistow Parish Council//Meeting Calendar//EN
CALSCALE:GREGORIAN
METHOD:PUBLISH
BEGIN:VEVENT
UID:70448-20220329@wistowcambsparishcouncil.gov.uk
DTSTAMP:20260425T101951Z
DTSTART;VALUE=DATE:20220329
DTEND;VALUE=DATE:20220330
SUMMARY:Council Meeting &#8211\\; 29th March 2022
DESCRIPTION:Full Council Meeting\nView details: https://wistowcambsparishcouncil.gov.uk/meetings/council-meeting-29th-march-2022/
URL:https://wistowcambsparishcouncil.gov.uk/meetings/council-meeting-29th-march-2022/
END:VEVENT
END:VCALENDAR
