BEGIN:VCALENDAR
VERSION:2.0
PRODID:-//Wistow Parish Council//Meeting Calendar//EN
CALSCALE:GREGORIAN
METHOD:PUBLISH
BEGIN:VEVENT
UID:71630-20250729@wistowcambsparishcouncil.gov.uk
DTSTAMP:20260421T081916Z
DTSTART;VALUE=DATE:20250729
DTEND;VALUE=DATE:20250730
SUMMARY:Council Meeting &#8211\\; 29th July 2025
DESCRIPTION:Full Council Meeting\nView details: https://wistowcambsparishcouncil.gov.uk/meetings/council-meeting-29th-july-2025/
URL:https://wistowcambsparishcouncil.gov.uk/meetings/council-meeting-29th-july-2025/
END:VEVENT
END:VCALENDAR
